Workbook

Sheet Fórmula ICE
D2: ICE (CCME/WQI) | K2: Índice de Conformidade ao Enquadramento
D3: Fórmula e etapas para calcular o ICE | K3: Avalia o grau de conformidade entre a condição atual do corpo hídrico e as metas de enquadramento estabelecidas.
D6: Etapa 1: Calcular o valor da abrangência (F1) | K6: Corresponde à porcentagem de parâmetros que não atendem às diretrizes pelo menos uma vez ao longo do período analisado, em relação ao total de parâmetros medidos, sendo estes denominados parâmetros não conformes.
D12: Etapa 2: Calcular o valor da frequência (F2) | K12: Representa a porcentagem de testes individuais que não atendem às diretrizes, ou seja, os chamados testes que falharam.
D18: Etapa 3: Calcular o valor da amplitude (F3) | K18: Expressa o quanto os valores dos testes que falharam se afastam das diretrizes estabelecidas e é calculado em três etapas.
D20: Três subetapas
E22: Etapa 3.1 | F22: Nos casos em que o valor medido não deve exceder a diretriz: | K22: Determina-se o número de vezes em que a concentração medida ultrapassa o limite definido — ou fica abaixo dele, nos casos em que a diretriz estabelece um valor mínimo —, valor denominado “variação”.
F26: Quando o valor medido não deve ficar abaixo da diretriz:
E31: Etapa 3.2 | F31: Soma normalizada das variações (snv): | K31: Calcula-se o valor total de não conformidade, obtido pela soma das excursões dividida pelo número total de testes realizados, estejam eles em conformidade ou não. Esse parâmetro é denominado soma normalizada das variações (snv).
E36: Etapa 3.3 | F36: Calcular F3: | K36: O valor de F3 é calculado por meio de uma função assintótica, que transforma o valor de sne em uma escala variando entre 0 e 100.
D41: Cálculo do ICE | K41: Cálculo final: F1, F2 e F3 são combinados pelo Teorema de Pitágoras (soma dos quadrados), e o resultado é normalizado por 1,732, gerando um índice de 0 (pior qualidade) a 100 (melhor qualidade).

Sheet Dados Analíticos
B2: Para mais informações: Ver Manual do ICE | E2: Parâmetros: | F2: Escolha parâmetros com amostras suficientes e limites definidos na diretriz selecionada. Recomenda-se utilizar entre 8 e 20 parâmetros e coletar cerca de 10 amostras anuais para rios e córregos, garantindo representatividade temporal adequada.
E4: Diretriz: | F4: Escolha diretrizes relevantes e específicas para o local, considerando características naturais e usos da água.
E5: Estação/Ponto: | F5: A estação ou ponto de amostragem deve ser escolhido conforme o objetivo do monitoramento e uso da água. O número de estações/pontos e amostras devem ser suficientes para obter resultados confiáveis.
B8: Símbolos | E8: Exemplo: | G8: Diretriz | H8: Estação/Ponto 1 | L8: Estação/Ponto 2
E9: Parâmetros | F9: Exceder_Se | G9: CONAMA 357/05 Águas doces classe II | H9: 44936 | I9: 45027 | J9: 45118 | K9: 45216 | L9: 44938 | M9: 45055 | N9: 45120 | O9: 45239
B10: Exceder_Se: Significa que o parâmetro vai exceder se for maior ou ficar abaixo da diretriz conforme símbolo. | E10: SDT | F10: > | G10: 500 | H10: 152 | I10: 108 | J10: 128 | K10: 129 | L10: 144 | M10: 108 | N10: 114 | O10: 100
E11: turbidez | F11: > | G11: 100 | H11: 140 | I11: 37 | J11: 28 | K11: 36 | L11: 108 | M11: 25 | N11: 17 | O11: 39
E12: DBO | F12: > | G12: 5 | H12: 11.33159 | I12: 3.0043425 | J12: 3.0043425 | K12: 3.0043425 | L12: 10.948455 | M12: 3.1976869 | N12: 1.9043059 | O12: 5.6985104
E13: fósforo total | F13: > | G13: 0.1 | H13: 0.2 | I13: 0.2 | J13: 0.2 | K13: 0.2 | L13: 0.24 | M13: 0.08 | N13: 0.06 | O13: 0.13
E14: N amoniacal | F14: > | G14: 2 | H14: 0.5 | I14: 1 | J14: 0.58 | K14: 1 | L14: 0.5 | M14: 0.1 | N14: 0.5 | O14: 0.5
E15: nitrato | F15: > | G15: 10 | H15: 0.28 | I15: 0.7 | J15: 1.02 | K15: 1.21 | L15: 0.41 | M15: 0.64 | N15: 0.86 | O15: 0.5
E16: nitrito | F16: > | G16: 1 | H16: 0.036 | I16: 0.06 | J16: 0.08 | K16: 0.23 | L16: 0.02 | M16: 0.02 | N16: 0.01 | O16: 0.05
B17: > | C17: maior | E17: OD | F17: < | G17: 5 | H17: 4.11 | I17: 4.98 | J17: 5.06 | K17: 3.67 | L17: 6.3 | M17: 7.54 | N17: 8 | O17: 6.5
B18: < | C18: menor | E18: pH | F18: <> | G18: 6, 9 | H18: 6.94 | I18: 7.2 | J18: 7.21 | K18: 7.18 | L18: 7.1 | M18: 7.5 | N18: 6.6 | O18: 7.6
B19: <> | C19: entre | E19: E. coli | F19: > | G19: 600 | H19: 3100 | I19: 296 | J19: 27 | K19: 1440 | L19: 1940 | M19: 625 | N19: 352 | O19: 900
B20: Exemplo: SDT (sólido dissolvido total, excede a diretriz se for maior que 500 mg/L conforme a CONAMA 357/05 para águas doces classe II
H23: Após cálculo ICE
H25: Categoria | J25: Valor ICE | K25: Condição do corpo hídrico
H27: Excelente | J27: 95 ≤ ICE ≤ 100 | K27: A qualidade da água está protegida, com ausência praticamente total de ameaças ou degradação; condições muito próximas aos níveis naturais ou intocados
H29: Boa | J29: 80 ≤ ICE < 95 | K29: A qualidade da água está protegida, com apenas um grau mínimo de ameaça ou degradação; as condições raramente se afastam dos níveis naturais ou desejáveis
E30: Estação/Ponto 1/2/3...
H31: Razoável | J31: 65 ≤ ICE < 80 | K31: A qualidade da água geralmente está protegida, mas ocasionalmente é ameaçada ou degradada; as condições às vezes se afastam dos níveis naturais ou desejáveis
H33: Regular | J33: 45 ≤ ICE < 65 | K33: A qualidade da água é frequentemente ameaçada ou degradada; as condições frequentemente se afastam dos níveis naturais ou desejáveis
H35: Ruim | J35: 0 ≤ ICE < 45 | K35: A qualidade da água é quase sempre ameaçada ou degradada; as condições geralmente se afastam dos níveis naturais ou desejáveis

Sheet Folha Inicial
C2: Insira nesta planilha os parâmetros selecionados, seus valores-limite conforme a diretriz e os dados dos pontos de monitoramento.
C4: Cálculo do ICE para Estação/Ponto 1
D6: Parâmetros | E6: SDT | F6: turbidez | G6: DBO | H6: fósforo total | I6: N amoniacal | J6: nitrato | K6: nitrito | L6: OD | M6: pH | N6: E. coli | O6: exemplo
C7: Diretriz | D7: CONAMA 357/05 - Águas doces classe II | E7: 500 | F7: 100 | G7: 5 | H7: 0.1 | I7: 2 | J7: 10 | K7: 1 | L7: 5 | M7: 6, 9 | N7: 600
D8: Exceder_Se | E8: > | F8: > | G8: > | H8: > | I8: > | J8: > | K8: > | L8: < | M8: <> | N8: >
C9: Estação/Ponto 1 | D9: 45091
D10: 45092
D11: 45093
D12: 45094
C15: Cálculo do ICE para Estação/Ponto 2
D17: Parâmetros | E17: SDT | F17: turbidez | G17: DBO | H17: fósforo total | I17: N amoniacal | J17: nitrato | K17: nitrito | L17: OD | M17: pH | N17: E. coli | O17: exemplo
C18: Diretriz | D18: CONAMA 357/05 - Águas doces classe II | E18: 500 | F18: 100 | G18: 5 | H18: 0.1 | I18: 2 | J18: 10 | K18: 1 | L18: 5 | M18: 6, 9 | N18: 600
D19: Exceder_Se | E19: > | F19: > | G19: > | H19: > | I19: > | J19: > | K19: > | L19: < | M19: <> | N19: >
C20: Estação/Ponto 2 | D20: 45091
D21: 45092
D22: 45093
D23: 45094

Sheet Inserir Dados
C2: Identifique, nesta planilha, as amostras que não atenderam à diretriz (excederam o limite ou ficaram abaixo do mínimo).
C4: Cálculo do ICE para Estação/Ponto 1
D6: Parâmetros | E6: SDT | F6: turbidez | G6: DBO | H6: fósforo total | I6: N amoniacal | J6: nitrato | K6: nitrito | L6: OD | M6: pH | N6: E. coli
C7: Diretriz | D7: CONAMA 357/05 - Águas doces classe II | E7: 500 | F7: 100 | G7: 5 | H7: 0.1 | I7: 2 | J7: 10 | K7: 1 | L7: 5 | M7: 6, 9 | N7: 600
D8: Exceder_Se | E8: > | F8: > | G8: > | H8: > | I8: > | J8: > | K8: > | L8: < | M8: <> | N8: >
C15: Cálculo do ICE para Estação/Ponto 2
D17: Parâmetros | E17: SDT | F17: turbidez | G17: DBO | H17: fósforo total | I17: N amoniacal | J17: nitrato | K17: nitrito | L17: OD | M17: pH | N17: E. coli
C18: Diretriz | D18: CONAMA 357/05 - Águas doces classe II | E18: 500 | F18: 100 | G18: 5 | H18: 0.1 | I18: 2 | J18: 10 | K18: 1 | L18: 5 | M18: 6, 9 | N18: 600
D19: Exceder_Se | E19: > | F19: > | G19: > | H19: > | I19: > | J19: > | K19: > | L19: < | M19: <> | N19: >

Sheet Folha Ponto 1
C2: Aplique o cálculo do ICE para Estação/Ponto 1
D4: Parâmetros | E4: SDT | F4: turbidez | G4: DBO | H4: fósforo total | I4: N amoniacal | J4: nitrato | K4: nitrito | L4: OD | M4: pH | N4: E. coli
D5: CONAMA 357/05 - Águas doces classe II | E5: 500 | F5: 100 | G5: 5 | H5: 0.1 | I5: 2 | J5: 10 | K5: 1 | L5: 5 | M5: 6, 9 | N5: 600
D6: Exceder_Se | E6: > | F6: > | G6: > | H6: > | I6: > | J6: > | K6: > | L6: < | M6: <> | N6: >
C7: Estação/Ponto 1
D13: Código | E13: ICE dado
C14: Nº de variáveis que falharam (parâmetros) | D14: X
L15: F1 | M15: =E14/E16*100 -> #DIV/0!
C16: Nº total de variáveis (parâmetros estudados) | D16: Y | L16: F2 | M16: =E20/E18*100 -> #DIV/0!
C18: Nº total de amostras (testes) | D18: Z
C20: Nº total de amostras (testes) que falharam (todos os testes que excederam) | D20: E
C22: Passo 3.1
C23: VARIAÇÃO
B25: Nos casos em que o valor medido não deve exceder a diretriz: | C25: Valor do teste que falhou | D25: A
C26: Limite da diretriz | D26: B
D27: A/B | E27: =E25/E26 -> #DIV/0! | F27: =F25/F26 -> #DIV/0! | G27: =G25/G26 -> #DIV/0! | H27: =H25/H26 -> #DIV/0! | I27: =I25/I26 -> #DIV/0! | J27: =J25/J26 -> #DIV/0! | K27: =K25/K26 -> #DIV/0! | L27: =L25/L26 -> #DIV/0!
C28: C = Variação | D28: C = A/B Value minus 1 | E28: =E27-1 -> #DIV/0! | F28: =F27-1 -> #DIV/0! | G28: =G27-1 -> #DIV/0! | H28: =H27-1 -> #DIV/0! | I28: =I27-1 -> #DIV/0! | J28: =J27-1 -> #DIV/0! | K28: =K27-1 -> #DIV/0! | L28: =L27-1 -> #DIV/0!
D29: =SUM(E28:L28) -> #DIV/0!
B32: Quando o valor medido não deve ficar abaixo da diretriz: | C32: Limite da diretriz | D32: B
C33: Valor do teste que falhou | D33: A
D34: B/A | E34: =E32/E33 -> #DIV/0! | F34: =F32/F33 -> #DIV/0! | G34: =G32/G33 -> #DIV/0!
C35: C = Variação | D35: C = B/A Value minus 1 | E35: =E34-1 -> #DIV/0! | F35: =F34-1 -> #DIV/0! | G35: =G34-1 -> #DIV/0!
D36: =SUM(E35:G35) -> #DIV/0!
C37: Σ[C] = | D37: =SUM(D29,D36) -> #DIV/0!
C39: Passo 3.2
C40: Soma normalizada das variações (snv):
C42: snv | D42: Σ[C]/Z | E42: =D37/E18 -> #DIV/0!
C44: Passo 3.3
G45: valor snv | H45: 0,01*snv | I45: 0,01*snv+0,01 | J45: F3
G46: =E42 -> #DIV/0! | H46: =0.01*G46 -> #DIV/0! | I46: =H46+0.01 -> #DIV/0! | J46: =G46/I46 -> #DIV/0!
C48: Cálculo Geral
B54: Componentes do ICE | C54: Valor | D54: Valor Quadrado
B55: F1 | C55: =M15 -> #DIV/0! | D55: =C55*C55 -> #DIV/0!
B56: F2 | C56: =M16 -> #DIV/0! | D56: =C56*C56 -> #DIV/0!
B57: F3 | C57: =J46 -> #DIV/0! | D57: =C57*C57 -> #DIV/0!
C58: Soma | D58: =SUM(D55:D57) -> #DIV/0!
C59: Valor Raiz Quadrada | D59: =SQRT(D58) -> #DIV/0!
C60: Dividido por 1,732 | D60: 1.732
C62: D | D62: =D59/D60 -> #DIV/0!
C66: ICE para Estação/Ponto 1
...

Sheet Folha Ponto 2
C2: Aplique o cálculo do ICE para Estação/Ponto 2
D4: Parâmetros | E4: SDT | F4: turbidez | G4: DBO | H4: fósforo total | I4: N amoniacal | J4: nitrato | K4: nitrito | L4: OD | M4: pH | N4: E. coli
D5: CONAMA 357/05 - Águas doces classe II | E5: 500 | F5: 100 | G5: 5 | H5: 0.1 | I5: 2 | J5: 10 | K5: 1 | L5: 5 | M5: 6, 9 | N5: 600
D6: Exceder_Se | E6: > | F6: > | G6: > | H6: > | I6: > | J6: > | K6: > | L6: < | M6: <> | N6: >
C7: Estação/Ponto 2
D13: Código | E13: ICE dado
C14: Nº de variáveis que falharam (parâmetros) | D14: X
L15: F1 | M15: =E14/E16*100 -> #DIV/0!
C16: Nº total de variáveis (parâmetros estudados) | D16: Y | L16: F2 | M16: =E20/E18*100 -> #DIV/0!
C18: Nº total de amostras (testes) | D18: Z
C20: Nº total de amostras (testes) que falharam (todos os testes que excederam) | D20: E
C22: Passo 3.1
C23: VARIAÇÃO
B25: Nos casos em que o valor medido não deve exceder a diretriz: | C25: Valor do teste que falhou | D25: A
C26: Limite da diretriz | D26: B
D27: A/B | E27: =E25/E26 -> #DIV/0! | F27: =F25/F26 -> #DIV/0! | G27: =G25/G26 -> #DIV/0! | H27: =H25/H26 -> #DIV/0! | I27: =I25/I26 -> #DIV/0! | J27: =J25/J26 -> #DIV/0! | K27: =K25/K26 -> #DIV/0! | L27: =L25/L26 -> #DIV/0!
C28: C = Variação | D28: C = A/B Value minus 1 | E28: =E27-1 -> #DIV/0! | F28: =F27-1 -> #DIV/0! | G28: =G27-1 -> #DIV/0! | H28: =H27-1 -> #DIV/0! | I28: =I27-1 -> #DIV/0! | J28: =J27-1 -> #DIV/0! | K28: =K27-1 -> #DIV/0! | L28: =L27-1 -> #DIV/0!
D29: =SUM(E28:L28) -> #DIV/0!
B32: Quando o valor medido não deve ficar abaixo da diretriz: | C32: Limite da diretriz | D32: B
C33: Valor do teste que falhou | D33: A
D34: B/A
C35: C = Variação | D35: C = B/A Value minus 1
D36: =SUM(E35:G35) -> 0
C37: Σ[C] = | D37: =SUM(D29,D36) -> #DIV/0!
C39: Passo 3.2
C40: Soma normalizada das variaçõess (snv):
C42: sne | D42: Σ[C]/Z | E42: =D37/E18 -> #DIV/0!
C44: Passo 3.3
G45: valor snv | H45: 0,01*snv | I45: 0,01*snv+0,01 | J45: F3
G46: =E42 -> #DIV/0! | H46: =0.01*G46 -> #DIV/0! | I46: =H46+0.01 -> #DIV/0! | J46: =G46/I46 -> #DIV/0!
C48: Cálculo Geral
B54: Componentes do ICE | C54: Valor | D54: Valor Quadrado
B55: F1 | C55: =M15 -> #DIV/0! | D55: =C55*C55 -> #DIV/0!
B56: F2 | C56: =M16 -> #DIV/0! | D56: =C56*C56 -> #DIV/0!
B57: F3 | C57: =J46 -> #DIV/0! | D57: =C57*C57 -> #DIV/0!
C58: Soma | D58: =SUM(D55:D57) -> #DIV/0!
C59: Valor Raiz Quadrada | D59: =SQRT(D58) -> #DIV/0!
C60: Dividido por 1,732 | D60: 1.732
C62: D | D62: =D59/D60 -> #DIV/0!
C66: ICE para Estação/Ponto 1
...

Sheet Resultados
B3: Resultados exibidos
C4: F1 | D4: F2 | E4: F3 | F4: ICE | G4: Categoria
B5: Estação/Ponto 1 | C5: ='Folha Ponto 1'!M15 -> #DIV/0! | D5: ='Folha Ponto 1'!M16 -> #DIV/0! | E5: ='Folha Ponto 1'!J46 -> #DIV/0! | F5: ='Folha Ponto 1'!F67 -> #DIV/0! | G5: ='Folha Ponto 1'!F69 -> #DIV/0!
B6: Estação/Ponto 2 | C6: ='Folha Ponto 2'!M15 -> #DIV/0! | D6: ='Folha Ponto 2'!M16 -> #DIV/0! | E6: ='Folha Ponto 2'!J46 -> #DIV/0! | F6: ='Folha Ponto 2'!F67 -> #DIV/0! | G6: ='Folha Ponto 2'!F69 -> #DIV/0!
